BEGIN:VCALENDAR
VERSION:2.0
PRODID:-//ChamberMaster//Event Calendar 2.0//EN
METHOD:PUBLISH
X-PUBLISHED-TTL:P3D
REFRESH-INTERVAL:P3D
CALSCALE:GREGORIAN
BEGIN:VEVENT
DTSTART:20260326T223000Z
DTEND:20260327T010000Z
X-MICROSOFT-CDO-ALLDAYEVENT:FALSE
SUMMARY:Entrepreneurial Training Program (ETP)
DESCRIPTION:ETP is an intensive business-planning training program designed to help participants who want to start a new business\, grow an existing business\, or make a substantial business pivot that requires viewing the business with a new perspective.\n\nThe focus of the program is to help you complete a comprehensive "rough draft" of your business plan in the form of a written workbook. Each session of class will help you learn business terminology and work toward putting your ideas on paper so that\, by the end of class\, you have made significant progress toward launching your business or writing a more comprehensive business plan.\n\n\n\n*Please note that for this course\, there are both live-virtual and in-person components\; you must be able to attend both components to successfully complete the course.
X-ALT-DESC;FMTTYPE=text/html:<p>ETP is an intensive business-planning training program designed to help participants who want to start a new business\, grow an existing business\, or make a substantial business pivot that requires viewing the business with a new perspective.</p>\n\n<p>The focus of the program is to help you complete a comprehensive &ldquo\;rough draft&rdquo\; of your business plan in the form of a written workbook. Each session of class will help you learn business terminology and work toward putting your ideas on paper so that\, by the end of class\, you have made significant progress toward launching your business or writing a more comprehensive business plan.<br />\n<br />\n*Please note that for this course\, there are both live-virtual and in-person components\; you must be able to attend both components to successfully complete the course.<br />\n&nbsp\;</p>\n
LOCATION:Virtual OR In-person on UW-Madison's Campus*
UID:e.1220.25469
SEQUENCE:3
DTSTAMP:20260420T142539Z
URL:https://dev.greatermadisonchamber.com/events/details/entrepreneurial-training-program-etp-03-26-2026-25469
END:VEVENT

END:VCALENDAR
